Workbook

Sheet Balance Sheet Consolidated
A1: Balance Sheet - Fiscal PY Accrual
A3: As of Aug 31, 2026
A5: Distribution account | B5: Capital | D5: General | F5: Combined | H5: ck figures
A6: Assets
A7: Current Assets
A8: Bank Accounts
A9: 1005 Regions Bank Checking *3400 | B9: 1046460.1 | F9: =SUM(B9,D9) -> 1046460.1
A10: 1005 Fifth Third Checking 4036 | D10: 394053.3 | F10: =SUM(B10,D10) -> 394053.3
A11: 1100 Regions Investment | F11: =SUM(B11,D11) -> 0
A12: 1105 Cash Equivalents | B12: 368292.59 | F12: =SUM(B12,D12) -> 368292.59
A13: 1110 US Treasury | B13: 8757405.5 | F13: =SUM(B13,D13) -> 8757405.5
A14: 1115 Accrued Investment Income | B14: 122912.12 | F14: =SUM(B14,D14) -> 122912.12
A15: Total for 1100 Regions Investment | B15: =SUM(B12:B14) -> 9248610.2 | D15: =SUM(D12:D14) -> 0 | F15: =SUM(F12:F14) -> 9248610.2
A17: Total for Bank Accounts and Investments | B17: =SUM(B9,B15) -> 10295070 | D17: =SUM(D10,D15) -> 394053.3 | F17: =SUM(B17,D17) -> 10689124
A18: Accounts Receivable
A19: 1150 Accounts Receivable | B19: 6432253.8 | F19: =SUM(B19,D19) -> 6432253.8 | H19: =F19-'AR Capital'!G15 -> 0
A20: Total for Accounts Receivable | B20: =SUM(B19) -> 6432253.8 | D20: =SUM(D19) -> 0 | F20: =SUM(B20,D20) -> 6432253.8
A21: Other Current Assets
A22: 1305 Due From Capital Fund | B22: 0 | D22: 246216.58 | F22: =SUM(B22,D22) -> 246216.58 | H22: =D22-B56 -> 0
A23: 1400 Deposit | B23: 1497.31 | D23: 1497.31 | F23: =SUM(B23,D23) -> 2994.62
A24: 1500 Due from Other Governments | B24: 0 | D24: 0 | F24: =SUM(B24,D24) -> 0
A25: 1200 Special Assessments Receivable
A26: 1210 Special Assessment 2021 Receivable | B26: 2432532.2 | F26: =SUM(B26,D26) -> 2432532.2
A27: 1290 Allowance for Uncollectible Special Assessment | B27: -61620.35 | F27: =SUM(B27,D27) -> -61620.35
A28: Total for 1200 Special Assessments Receivable | B28: =SUM(B26:B27) -> 2370911.8 | D28: =SUM(D26:D27) -> 0 | F28: =SUM(F26:F27) -> 2370911.8
A29: Total for Other Current Assets | B29: =SUM(B22:B24,B28) -> 2372409.1 | D29: =SUM(D22:D24,D28) -> 247713.89 | F29: =SUM(B29,D29) -> 2620123
A30: Total for Current Assets | B30: =SUM(B17,B20,B29) -> 19099733 | D30: =SUM(D17,D20,D29) -> 641767.19 | F30: =SUM(B30,D30) -> 19741500
A31: Fixed Assets
A32: 1600 Capital Assets
A33: 1605 Construction in Progress, Not Being Depreciated 2025 Renourishment
A34: 1610 Capital Assets Being Depreciated | B34: 6769675
A35: 1615 Right to Use Leased Building | B35: 68091 | F35: =SUM(B35,D35) -> 68091
A36: 1620 Infrastructure 2021 Renourishment/ Parking | B36: 11135190 | F36: =SUM(B36,D36) -> 11135190
A37: 1625 Equipment | B37: 815.13 | D37: 47740.78 | F37: =SUM(B37,D37) -> 48555.91
A38: Total for 1610 Capital Assets Being Depreciated | B38: =SUM(B35:B37) -> 11204096 | D38: =SUM(D35:D37) -> 47740.78 | F38: =SUM(F35:F37) -> 11251837
A39: 1675 Less Accumulated Depreciation/Amoritization
A40: 1680 Accum Depr Right to use Leased Building | B40: -17022 | F40: =SUM(B40,D40) -> -17022
A41: 1685 Accum Depr Insfrastructure 2021 Renourishment/ Parking Lot | B41: -6902360.4 | F41: =SUM(B41,D41) -> -6902360.4
A42: 1690 Accum Depr Equipment | B42: -2.23 | D42: -12336.22 | F42: =SUM(B42,D42) -> -12338.45
A43: Total for 1675 Less Accumulated Depreciation | B43: =SUM(B40:B42) -> -6919384.7 | D43: =SUM(D40:D42) -> -12336.22 | F43: =SUM(F40:F42) -> -6931720.9
...

Sheet AR Capital
A1: CEPD - Capital
A2: A/R Aging Summary Report
A3: As of Aug 31, 2026
B5: CURRENT | C5: 1 - 30 | D5: 31 - 60 | E5: 61 - 90 | F5: 91 AND OVER | G5: Total
A6: Florida Fish and Wildlife Conservation Commission
A7: FWC Agreement 25109 - CEPD Invasive Exotic Species Removal | C7: 240875.93 | G7: =B7+C7+D7+E7+F7 -> 240875.93
A8: Total for Florida Fish and Wildlife Conservation Commission | B8: =B6+B7 -> 0 | C8: =C6+C7 -> 240875.93 | D8: =D6+D7 -> 0 | E8: =E6+E7 -> 0 | F8: =F6+F7 -> 0 | G8: =B8+C8+D8+E8+F8 -> 240875.93
A9: Lee County Finance Department
A10: ILA - Lee County BoCC - 2025 Nourishment Project | D10: 3186742.5 | G10: =B10+C10+D10+E10+F10 -> 3186742.5
A11: Total for Lee County Finance Department | B11: =B9+B10 -> 0 | C11: =C9+C10 -> 0 | D11: =D9+D10 -> 3186742.5 | E11: =E9+E10 -> 0 | F11: =F9+F10 -> 0 | G11: =B11+C11+D11+E11+F11 -> 3186742.5 | H11: not sure when we will receive it's dependant on FDEP below
A12: LGFR / FDEP
A13: 25LE1 Captiva Island Beach Nourishment Project | B13: 3004635.4 | G13: =B13+C13+D13+E13+F13 -> 3004635.4
A14: Total for LGFR / FDEP | B14: =B12+B13 -> 3004635.4 | C14: =C12+C13 -> 0 | D14: =D12+D13 -> 0 | E14: =E12+E13 -> 0 | F14: =F12+F13 -> 0 | G14: =B14+C14+D14+E14+F14 -> 3004635.4
A15: TOTAL | B15: =B8+B11+B14 -> 3004635.4 | C15: =C8+C11+C14 -> 240875.93 | D15: =D8+D11+D14 -> 3186742.5 | E15: =E8+E11+E14 -> 0 | F15: =F8+F11+F14 -> 0 | G15: =B15+C15+D15+E15+F15 -> 6432253.8

Sheet P&L Capital
B1: CEPD - Capital
B2: Revenue and Expenditures
C5: Total
C6: 46235 | D6: Oct 1 2025 -August 31 2026 (YTD)
B7: Income
B8: 4000 SPECIAL ASSESSMENT REVENUES
B9: 4005 Special Assessments | D9: 852276.75
B10: Total for 4000 SPECIAL ASSESSMENT REVENUES | C10: =C8+C9 -> 0 | D10: =D8+D9 -> 852276.75
B11: 4100 Interest Income | C11: 31207.71 | D11: 508405.71
B12: 4200 Other Income | D12: 23.08
B13: 4300 INTERGOVERNMENTAL / GRANT REVENUES
B14: 4305 Local Government Contributions / Reimbursements | D14: 3509912.6
B15: 4310 Grant Income - State | C15: =-372413.36 -> -372413.36 | D15: 11127483
B16: 4315 Grant Income - Federal | D16: 885170.28
B17: Total for 4300 INTERGOVERNMENTAL / GRANT REVENUES | C17: =C13+C14+C15+C16 -> -372413.36 | D17: =D13+D14+D15+D16 -> 15522566
B18: 4400 PARKING REVENUES
B19: 4405 Parking Lot Revenue | C19: 45864.5 | D19: 517631.25
B20: Total for 4400 PARKING REVENUES | C20: =C18+C19 -> 45864.5 | D20: =D18+D19 -> 517631.25
B21: Total for Income | C21: =C7+C10+C11+C12+C17+C20 -> -295341.15 | D21: =D7+D10+D11+D12+D17+D20 -> 17400902
B22: Gross Profit | C22: =C21-0 -> -295341.15 | D22: =D21-0 -> 17400902
B23: Expenses
B24: 5000 ADMINISTRATIVE EXPENSES
B25: 5005 Bank Service Charges | C25: 2048.82 | D25: 20795.61
B26: 5015 Advertising / Legal Notices / Public Communications | C26: 1083.09 | D26: 1849.49
B27: 5025 Insurance | D27: -840.5
B28: 5040 Rent / Office Lease Expense | C28: 1497.31 | D28: 16253.62
B29: 5080 Misc Administrative Expense | D29: 0
B30: 5085 Travel, Milage & Toll Reimbursements | D30: 1175.08
B31: Total for 5000 ADMINISTRATIVE EXPENSES | C31: =C24+C25+C26+C27+C28+C29+C30 -> 4629.22 | D31: =D24+D25+D26+D27+D28+D29+D30 -> 39233.3
B32: 5090 SOFTWARE & CLOUD SUBSCRIPTIONS
B33: 5090.08 Software & Online Services | C33: 140 | D33: 1290
B34: Total for 5090 SOFTWARE & CLOUD SUBSCRIPTIONS | C34: 140 | D34: 1290
B35: 5100 PAYROLL EXPENSES
B36: 5105 Gross Wages | C36: 12525.06 | D36: 180302.43
B37: 5110 Payroll Taxes | C37: 930.61 | D37: 13380.28
B38: 5115 Payroll Service Fees | C38: 144.33 | D38: 3158.7
B39: 5120 Health Insurance Reimbursements | D39: 3108.24
B40: Total for 5100 PAYROLL EXPENSES | C40: =C35+C36+C37+C38+C39 -> 13600 | D40: =D35+D36+D37+D38+D39 -> 199949.65
B41: 5200 COST OF COLLECTING SPECIAL ASSESSMENTS
B42: 5205 Property Appraiser Fees | D42: 718
...

Sheet P&L General Fund
B1: CEPD - General
B2: Revenue and Expenditures
C4: Total
C5: ='P&L Capital'!C6 -> 46235 | D5: ='P&L Capital'!D6 -> Oct 1 2025 -August 31 2026 (YTD)
B6: Income
B7: 4000 TAX REVENUES
B8: 4005 Ad Valorem Taxes | D8: 622407.68
B9: Total for 4000 TAX REVENUES | C9: =C7+C8 -> 0 | D9: =D7+D8 -> 622407.68
B10: 4100 Interest Income | C10: 1.13 | D10: 631.49
B11: 4200 OTHER INCOME
B12: 4205 Estoppel Letter Fees | C12: 0 | D12: 8000
B13: 4295 Misc Other Income | D13: 482.19
B14: Total for 4200 OTHER INCOME | C14: =C11+C12+C13 -> 0 | D14: =D11+D12+D13 -> 8482.19
B15: Total for Income | C15: =C6+C9+C10+C14 -> 1.13 | D15: =D6+D9+D10+D14 -> 631521.36
B16: Gross Profit | C16: =C15-0 -> 1.13 | D16: =D15-0 -> 631521.36
B17: Expenses
B18: 5000 ADMINISTRATIVE EXPENSES
B19: 5005 Bank Service Charges | D19: 57.75
B20: 5015 Advertising / Legal Notices / Public Communications | C20: 1103.39 | D20: 5129.96
B21: 5020 Copier Lease | C21: 147.09 | D21: 1457.79
B22: 5025 Insurance | D22: 11499.5
B23: 5030 Dues & Subscriptions | D23: 8575
B24: 5035 Office Supplies & Expenses | C24: 247.15 | D24: 3526.06
B25: 5040 Rent / Office Lease Expense | C25: 1497.31 | D25: 16253.58
B26: 5045 Postage & Delivery | D26: 126.84
B27: 5050 Telephone / Communications | C27: 313.02 | D27: 3776.62
B28: 5055 Travel & Conferences | D28: 3063.59
B29: 5060 IT Support / Computer Maintenance | C29: 445 | D29: 3850.5
B30: 5065 Website Maintenance | C30: 0 | D30: 115.95
B31: 5070 Repairs & Maintenance | D31: 768
B32: 5075 Small Tools, Equipment & Field Supplies | D32: 101.54
B33: 5080 Misc Administrative Expense | D33: 0
B34: Total for 5000 ADMINISTRATIVE EXPENSES | C34: =C18+C19+C20+C21+C22+C23+C24+C25+C26+C27+C28+C29+C30+C31+C32+C33 -> 3752.96 | D34: =D18+D19+D20+D21+D22+D23+D24+D25+D26+D27+D28+D29+D30+D31+D32+D33 -> 58302.68
B35: 5090 SOFTWARE & CLOUD SUBSCRIPTIONS
B36: 5090.01 Adobe | C36: 23.99 | D36: 743.69
B37: 5090.02 ChatGPT / AI Tools | C37: 20 | D37: 371.51
B38: 5090.03 Constant Contact | C38: 72 | D38: 72
B39: 5090.04 Docusign | D39: 960
B40: 5090.05 Google Suite | C40: 227.76 | D40: 2373.96
B41: 5090.06 LastPass | D41: 306.42
...

Sheet Budget vs Actual Capital
B1: Budget vs. Actuals_Budget_FY26_P&L__Report
B2: October, 2025-August, 2026
C4: Total
C5: Actual | D5: Budget | E5: Over budget by
B6: Income
B7: 4000 SPECIAL ASSESSMENT REVENUES
B8: 4005 Special Assessments | C8: ='P&L Capital'!D9 -> 852276.75 | D8: 873398 | E8: =C8-D8 -> -21121.25
B9: Total for 4000 SPECIAL ASSESSMENT REVENUES | C9: =C7+C8 -> 852276.75 | D9: =D7+D8 -> 873398 | E9: =E7+E8 -> -21121.25
B10: 4100 Interest Income | C10: ='P&L Capital'!D11 -> 508405.71 | D10: 417310 | E10: =C10-D10 -> 91095.71
B11: 4200 Other Income | C11: ='P&L Capital'!D12 -> 23.08 | D11: 261482 | E11: =C11-D11 -> -261458.92
B12: 4300 INTERGOVERNMENTAL / GRANT REVENUES | C12: ='P&L Capital'!D13 -> 0
B13: 4305 Local Government Contributions / Reimbursements | C13: ='P&L Capital'!D14 -> 3509912.6 | D13: 3000000 | E13: =C13-D13 -> 509912.56
B14: 4310 Grant Income - State | C14: ='P&L Capital'!D15 -> 11127483 | D14: 15193502 | E14: =C14-D14 -> -4066019.3
B15: 4315 Grant Income - Federal | C15: ='P&L Capital'!D16 -> 885170.28 | E15: =C15-D15 -> 885170.28
B16: Total for 4300 INTERGOVERNMENTAL / GRANT REVENUES | C16: =C12+C13+C14+C15 -> 15522566 | D16: =D12+D13+D14+D15 -> 18193502 | E16: =E12+E13+E14+E15 -> -2670936.5
B17: 4400 PARKING REVENUES
B18: 4405 Parking Lot Revenue | C18: ='P&L Capital'!D19 -> 517631.25 | D18: 300000 | E18: =C18-D18 -> 217631.25
B19: Total for 4400 PARKING REVENUES | C19: =C17+C18 -> 517631.25 | D19: =D17+D18 -> 300000 | E19: =E17+E18 -> 217631.25
B20: Total for Income | C20: =C6+C9+C10+C11+C16+C19 -> 17400902 | D20: =D6+D9+D10+D11+D16+D19 -> 20045692 | E20: =E6+E9+E10+E11+E16+E19 -> -2644789.7
B21: Cost of Goods Sold
B22: Gross Profit | C22: =C20-C21 -> 17400902 | D22: =D20-D21 -> 20045692 | E22: =E20-E21 -> -2644789.7
B23: Expenses
B24: 5000 ADMINISTRATIVE EXPENSES
B25: 5005 Bank Service Charges | C25: ='P&L Capital'!D25 -> 20795.61 | D25: 1000 | E25: =C25-D25 -> 19795.61
B26: 5015 Advertising / Legal Notices / Public Communications | C26: ='P&L Capital'!D26 -> 1849.49 | D26: 2000 | E26: =C26-D26 -> -150.51
B27: 5025 Insurance | C27: ='P&L Capital'!D27 -> -840.5 | D27: 4000 | E27: =C27-D27 -> -4840.5
B28: 5040 Rent / Office Lease Expense | C28: ='P&L Capital'!D28 -> 16253.62 | D28: 18000 | E28: =C28-D28 -> -1746.38
B29: 5080 Misc Administrative Expense | C29: ='P&L Capital'!D29 -> 0 | E29: =C29-D29 -> 0
B30: 5085 Travel, Milage & Toll Reimbursements | C30: ='P&L Capital'!D30 -> 1175.08 | E30: =C30-D30 -> 1175.08
B31: Total for 5000 ADMINISTRATIVE EXPENSES | C31: =C24+C25+C26+C27+C28+C29+C30 -> 39233.3 | D31: =D24+D25+D26+D27+D28+D29+D30 -> 25000 | E31: =E24+E25+E26+E27+E28+E29+E30 -> 14233.3
B32: 5090 SOFTWARE & CLOUD SUBSCRIPTIONS
B33: 5090.08 Software & Online Services | C33: ='P&L Capital'!D33 -> 1290 | E33: =C33-D33 -> 1290
B34: Total for 5090 SOFTWARE & CLOUD SUBSCRIPTIONS | C34: =C33 -> 1290 | D34: =D33 -> 0 | E34: =E33 -> 1290
B35: 5100 PAYROLL EXPENSES
B36: 5105 Gross Wages | C36: ='P&L Capital'!D36 -> 180302.43 | D36: 93680 | E36: =C36-D36 -> 86622.43
B37: 5110 Payroll Taxes | C37: ='P&L Capital'!D37 -> 13380.28 | D37: 7167 | E37: =C37-D37 -> 6213.28
B38: 5115 Payroll Service Fees | C38: ='P&L Capital'!D38 -> 3158.7 | D38: 2166 | E38: =C38-D38 -> 992.7
B39: 5120 Health Insurance Reimbursements | C39: ='P&L Capital'!D39 -> 3108.24 | E39: =C39-D39 -> 3108.24
B40: Total for 5100 PAYROLL EXPENSES | C40: =C35+C36+C37+C38+C39 -> 199949.65 | D40: =D35+D36+D37+D38+D39 -> 103013 | E40: =E35+E36+E37+E38+E39 -> 96936.65
B41: 5200 COST OF COLLECTING SPECIAL ASSESSMENTS | D41: 17000 | E41: =C41-D41 -> -17000
...

Sheet Budget Vs Actual General
B1: Budget vs. Actuals_Budget_FY26_P&L__Report
B2: October, 2025-August, 2026
C4: Total
C5: Actual | D5: Budget | E5: Over budget by
B6: Income
B7: 4000 TAX REVENUES
B8: 4005 Ad Valorem Taxes | C8: ='P&L General Fund'!D8 -> 622407.68 | D8: 622003 | E8: =C8-D8 -> 404.68
B9: Total for 4000 TAX REVENUES | C9: =C7+C8 -> 622407.68 | D9: =D7+D8 -> 622003 | E9: =E7+E8 -> 404.68
B10: 4100 Interest Income | C10: ='P&L General Fund'!D10 -> 631.49 | D10: 15000 | E10: =C10-D10 -> -14368.51
B11: 4200 OTHER INCOME
B12: 4205 Estoppel Letter Fees | C12: ='P&L General Fund'!D12 -> 8000 | D12: 5000 | E12: =C12-D12 -> 3000
B13: 4295 Misc Other Income | C13: ='P&L General Fund'!D13 -> 482.19 | E13: =C13-D13 -> 482.19
B14: Total for 4200 OTHER INCOME | C14: =C11+C12+C13 -> 8482.19 | D14: =D11+D12+D13 -> 5000 | E14: =E11+E12+E13 -> 3482.19
B15: Total for Income | C15: =C6+C9+C10+C14 -> 631521.36 | D15: =D6+D9+D10+D14 -> 642003 | E15: =E6+E9+E10+E14 -> -10481.64
B16: Cost of Goods Sold
B17: Gross Profit | C17: =C15-C16 -> 631521.36 | D17: =D15-D16 -> 642003 | E17: =E15-E16 -> -10481.64
B18: Expenses
B19: 5000 ADMINISTRATIVE EXPENSES
B20: 5005 Bank Service Charges | C20: ='P&L General Fund'!D19 -> 57.75 | D20: 2000 | E20: =C20-D20 -> -1942.25
B21: 5015 Advertising / Legal Notices / Public Communications | C21: ='P&L General Fund'!D20 -> 5129.96 | D21: 15000 | E21: =C21-D21 -> -9870.04
B22: 5020 Copier Lease | C22: ='P&L General Fund'!D21 -> 1457.79 | E22: =C22-D22 -> 1457.79
B23: 5025 Insurance | C23: ='P&L General Fund'!D22 -> 11499.5 | D23: 21000 | E23: =C23-D23 -> -9500.5
B24: 5030 Dues & Subscriptions | C24: ='P&L General Fund'!D23 -> 8575 | D24: 10000 | E24: =C24-D24 -> -1425
B25: 5035 Office Supplies & Expenses | C25: ='P&L General Fund'!D24 -> 3526.06 | D25: 1000 | E25: =C25-D25 -> 2526.06
B26: 5040 Rent / Office Lease Expense | C26: ='P&L General Fund'!D25 -> 16253.58 | D26: 17000 | E26: =C26-D26 -> -746.42
B27: 5045 Postage & Delivery | C27: ='P&L General Fund'!D26 -> 126.84 | D27: 500 | E27: =C27-D27 -> -373.16
B28: 5050 Telephone / Communications | C28: ='P&L General Fund'!D27 -> 3776.62 | D28: 5500 | E28: =C28-D28 -> -1723.38
B29: 5055 Travel & Conferences | C29: ='P&L General Fund'!D28 -> 3063.59 | D29: 20000 | E29: =C29-D29 -> -16936.41
B30: 5060 IT Support / Computer Maintenance | C30: ='P&L General Fund'!D29 -> 3850.5 | D30: 15000 | E30: =C30-D30 -> -11149.5
B31: 5065 Website Maintenance | C31: ='P&L General Fund'!D30 -> 115.95 | E31: =C31-D31 -> 115.95
B32: 5070 Repairs & Maintenance | C32: ='P&L General Fund'!D31 -> 768 | D32: 5000 | E32: =C32-D32 -> -4232
B33: 5075 Small Tools, Equipment & Field Supplies | C33: ='P&L General Fund'!D32 -> 101.54 | E33: =C33-D33 -> 101.54
B34: 5080 Misc Administrative Expense | C34: ='P&L General Fund'!D33 -> 0 | E34: =C34-D34 -> 0
B35: 5010 Board Meeting Expenses | C35: 0 | D35: 1000 | E35: =C35-D35 -> -1000
B36: 5014 Utilities (deleted) | C36: ='P&L General Fund'!D35 -> 0 | E36: =C36-D36 -> 0
B37: Electric (deleted) | D37: 5500 | E37: =C37-D37 -> -5500
B38: Total for 5014 Utilities (deleted) | C38: =C36+C37 -> 0 | D38: =D36+D37 -> 5500 | E38: =E36+E37 -> -5500
B39: Total for 5000 ADMINISTRATIVE EXPENSES | C39: =C19+C20+C21+C22+C23+C24+C25+C26+C27+C28+C29+C30+C31+C32+C33+C34+C35+C38 -> 58302.68 | D39: =D19+D20+D21+D22+D23+D24+D25+D26+D27+D28+D29+D30+D31+D32+D33+D34+D35+D38 -> 118500 | E39: =E19+E20+E21+E22+E23+E24+E25+E26+E27+E28+E29+E30+E31+E32+E33+E34+E35+E38 -> -60197.32
B40: 5090 SOFTWARE & CLOUD SUBSCRIPTIONS
B41: 5090.01 Adobe | C41: ='P&L General Fund'!D36 -> 743.69 | E41: =C41-D41 -> 743.69
...
